BEGIN:VCALENDAR
VERSION:2.0
PRODID:-// - ECPv6.15.20//NONSGML v1.0//EN
CALSCALE:GREGORIAN
METHOD:PUBLISH
X-ORIGINAL-URL:https://www.kameidi.lu
X-WR-CALDESC:Events for 
REFRESH-INTERVAL;VALUE=DURATION:PT1H
X-Robots-Tag:noindex
X-PUBLISHED-TTL:PT1H
BEGIN:VTIMEZONE
TZID:Europe/Luxembourg
BEGIN:DAYLIGHT
TZOFFSETFROM:+0100
TZOFFSETTO:+0200
TZNAME:CEST
DTSTART:20170326T010000
END:DAYLIGHT
BEGIN:STANDARD
TZOFFSETFROM:+0200
TZOFFSETTO:+0100
TZNAME:CET
DTSTART:20171029T010000
END:STANDARD
BEGIN:DAYLIGHT
TZOFFSETFROM:+0100
TZOFFSETTO:+0200
TZNAME:CEST
DTSTART:20180325T010000
END:DAYLIGHT
BEGIN:STANDARD
TZOFFSETFROM:+0200
TZOFFSETTO:+0100
TZNAME:CET
DTSTART:20181028T010000
END:STANDARD
BEGIN:DAYLIGHT
TZOFFSETFROM:+0100
TZOFFSETTO:+0200
TZNAME:CEST
DTSTART:20190331T010000
END:DAYLIGHT
BEGIN:STANDARD
TZOFFSETFROM:+0200
TZOFFSETTO:+0100
TZNAME:CET
DTSTART:20191027T010000
END:STANDARD
END:VTIMEZONE
BEGIN:VEVENT
DTSTART;VALUE=DATE:20181122
DTEND;VALUE=DATE:20181127
DTSTAMP:20260425T005502
CREATED:20181001T064344Z
LAST-MODIFIED:20240221T140010Z
UID:1546-1542848400-1543193999@www.kameidi.lu
SUMMARY:Kabarä 2018: Bekenn Faarf!
DESCRIPTION:Achetez vos billets
URL:https://www.kameidi.lu/index.php/events/kabara-bekenn-faarf/
LOCATION:ARCA Bartreng\, 17 rue Atert\, BERTRANGE\, Luxemburg\, Luxembourg
CATEGORIES:Virstellung
ATTACH;FMTTYPE=image/jpeg:https://www.kameidi.lu/wp-content/uploads/2018/10/faarf_arca_20x20.jpg
ORGANIZER;CN="Bartrenger Kam%C3%A9idi":MAILTO:info@kameidi.lu
END:VEVENT
BEGIN:VEVENT
DTSTART;VALUE=DATE:20181115
DTEND;VALUE=DATE:20181120
DTSTAMP:20260425T005502
CREATED:20181001T064021Z
LAST-MODIFIED:20240221T140043Z
UID:1543-1542243600-1542589199@www.kameidi.lu
SUMMARY:Kannermusical 2018: Alby Airlines
DESCRIPTION:Kannermusical vum Max Fischbach a Liane Nimax\nAchetez vos billets
URL:https://www.kameidi.lu/index.php/events/alby-airlines/
LOCATION:ARCA Bartreng\, 17 rue Atert\, BERTRANGE\, Luxemburg\, Luxembourg
CATEGORIES:Virstellung
ATTACH;FMTTYPE=image/png:https://www.kameidi.lu/wp-content/uploads/2018/10/Screen-Shot-2018-04-29-at-14.10.46.png
ORGANIZER;CN="Bartrenger Kam%C3%A9idi":MAILTO:info@kameidi.lu
END:VEVENT
END:VCALENDAR